BEGIN:VCALENDAR
VERSION:2.0
PRODID:-//Orassy - ECPv4.1.4//NONSGML v1.0//EN
CALSCALE:GREGORIAN
METHOD:PUBLISH
X-WR-CALNAME:Orassy
X-ORIGINAL-URL:http://orassy.org
X-WR-CALDESC:Events for Orassy
BEGIN:VEVENT
DTSTART;VALUE=DATE:20160531
DTEND;VALUE=DATE:20160608
DTSTAMP:20260423T114142
CREATED:20160530
LAST-MODIFIED:20160530
UID:738-1464652800-1465430399@orassy.org
SUMMARY:Event Demo
DESCRIPTION:This is some demo text for the event
URL:http://orassy.org/event/event-demo/
ATTACH;FMTTYPE=image/jpeg:http://orassy.org/wp-content/uploads/2015/03/column_5.jpg
END:VEVENT
END:VCALENDAR